Workbook

Sheet 1人当たり医療費
A1: 都道府県支部別 加入者１人当たり医療費（令和６年度）（年齢調整前） | H1: 都道府県支部別 加入者１人当たり医療費の状況（全国平均との差）（令和６年度）（年齢調整前）
F2: （円／人） | M2: （円／人）
D3: １人当たり医療費 | K3: １人当たり医療費
B4: 合計 | C4: 入院 | D4: 入院外（調剤を含む） | E4: 歯科 | F4: その他 | I4: 合計 | J4: 入院 | K4: 入院外（調剤を含む） | L4: 歯科 | M4: その他
A5: 全国平均 | B5: 212946.01 | C5: 55679.462 | D5: 128530.2 | E5: 23307.133 | F5: 5429.2114 | H5: 全国平均 | I5: ='1人当たり医療費'!B5-'1人当たり医療費'!B$5 -> 0 | J5: ='1人当たり医療費'!C5-'1人当たり医療費'!C$5 -> 0 | K5: ='1人当たり医療費'!D5-'1人当たり医療費'!D$5 -> 0 | L5: ='1人当たり医療費'!E5-'1人当たり医療費'!E$5 -> 0 | M5: ='1人当たり医療費'!F5-'1人当たり医療費'!F$5 -> 0
A6: 北 海 道 | B6: 235387.42 | C6: 69944.947 | D6: 137351.62 | E6: 23610.227 | F6: 4480.6316 | H6: ='1人当たり医療費'!A52 -> 沖 縄 | I6: ='1人当たり医療費'!B52-'1人当たり医療費'!B$5 -> -15536.116 | J6: ='1人当たり医療費'!C52-'1人当たり医療費'!C$5 -> 3662.5223 | K6: ='1人当たり医療費'!D52-'1人当たり医療費'!D$5 -> -15299.525 | L6: ='1人当たり医療費'!E52-'1人当たり医療費'!E$5 -> -3527.7438 | M6: ='1人当たり医療費'!F52-'1人当たり医療費'!F$5 -> -371.36916
A7: 青 森 | B7: 219172.3 | C7: 59499.209 | D7: 135629.35 | E7: 20451.862 | F7: 3591.8792 | H7: ='1人当たり医療費'!A20 -> 新 潟 | I7: ='1人当たり医療費'!B20-'1人当たり医療費'!B$5 -> -13835.572 | J7: ='1人当たり医療費'!C20-'1人当たり医療費'!C$5 -> -3767.4494 | K7: ='1人当たり医療費'!D20-'1人当たり医療費'!D$5 -> -6568.3324 | L7: ='1人当たり医療費'!E20-'1人当たり医療費'!E$5 -> -2040.907 | M7: ='1人当たり医療費'!F20-'1人当たり医療費'!F$5 -> -1458.8829
A8: 岩 手 | B8: 212833.02 | C8: 55054.491 | D8: 132053 | E8: 21465.14 | F8: 4260.3974 | H8: ='1人当たり医療費'!A21 -> 富 山 | I8: ='1人当たり医療費'!B21-'1人当たり医療費'!B$5 -> -11725.317 | J8: ='1人当たり医療費'!C21-'1人当たり医療費'!C$5 -> -1647.624 | K8: ='1人当たり医療費'!D21-'1人当たり医療費'!D$5 -> -7098.8348 | L8: ='1人当たり医療費'!E21-'1人当たり医療費'!E$5 -> -2175.5865 | M8: ='1人当たり医療費'!F21-'1人当たり医療費'!F$5 -> -803.2713
A9: 宮 城 | B9: 221550.3 | C9: 60275.345 | D9: 135009.78 | E9: 21355.121 | F9: 4910.0534 | H9: ='1人当たり医療費'!A25 -> 長 野 | I9: ='1人当たり医療費'!B25-'1人当たり医療費'!B$5 -> -11220.454 | J9: ='1人当たり医療費'!C25-'1人当たり医療費'!C$5 -> -1510.2806 | K9: ='1人当たり医療費'!D25-'1人当たり医療費'!D$5 -> -7133.1214 | L9: ='1人当たり医療費'!E25-'1人当たり医療費'!E$5 -> -1765.8843 | M9: ='1人当たり医療費'!F25-'1人当たり医療費'!F$5 -> -811.16761
A10: 秋 田 | B10: 236900.47 | C10: 67815.81 | D10: 141556.53 | E10: 22798.353 | F10: 4729.7757 | H10: ='1人当たり医療費'!A13 -> 茨 城 | I10: ='1人当たり医療費'!B13-'1人当たり医療費'!B$5 -> -11426.205 | J10: ='1人当たり医療費'!C13-'1人当たり医療費'!C$5 -> -4155.0157 | K10: ='1人当たり医療費'!D13-'1人当たり医療費'!D$5 -> -3040.675 | L10: ='1人当たり医療費'!E13-'1人当たり医療費'!E$5 -> -2650.7435 | M10: ='1人当たり医療費'!F13-'1人当たり医療費'!F$5 -> -1579.7712
A11: 山 形 | B11: 222753.98 | C11: 59616.387 | D11: 136731.34 | E11: 22338.242 | F11: 4068.0112 | H11: ='1人当たり医療費'!A30 -> 滋 賀 | I11: ='1人当たり医療費'!B30-'1人当たり医療費'!B$5 -> -8355.0157 | J11: ='1人当たり医療費'!C30-'1人当たり医療費'!C$5 -> -989.66237 | K11: ='1人当たり医療費'!D30-'1人当たり医療費'!D$5 -> -5294.5315 | L11: ='1人当たり医療費'!E30-'1人当たり医療費'!E$5 -> -1812.9164 | M11: ='1人当たり医療費'!F30-'1人当たり医療費'!F$5 -> -257.90537
A12: 福 島 | B12: 209998.78 | C12: 57336.249 | D12: 127675.62 | E12: 20682.902 | F12: 4304.0128 | H12: ='1人当たり医療費'!A15 -> 群 馬 | I12: ='1人当たり医療費'!B15-'1人当たり医療費'!B$5 -> -8732.7088 | J12: ='1人当たり医療費'!C15-'1人当たり医療費'!C$5 -> -1669.1665 | K12: ='1人当たり医療費'!D15-'1人当たり医療費'!D$5 -> -4061.4656 | L12: ='1人当たり医療費'!E15-'1人当たり医療費'!E$5 -> -2495.9047 | M12: ='1人当たり医療費'!F15-'1人当たり医療費'!F$5 -> -506.17209
A13: 茨 城 | B13: 201519.8 | C13: 51524.446 | D13: 125489.53 | E13: 20656.39 | F13: 3849.4402 | H13: ='1人当たり医療費'!A16 -> 埼 玉 | I13: ='1人当たり医療費'!B16-'1人当たり医療費'!B$5 -> -8886.4846 | J13: ='1人当たり医療費'!C16-'1人当たり医療費'!C$5 -> -3801.1146 | K13: ='1人当たり医療費'!D16-'1人当たり医療費'!D$5 -> -3367.4084 | L13: ='1人当たり医療費'!E16-'1人当たり医療費'!E$5 -> -1619.2747 | M13: ='1人当たり医療費'!F16-'1人当たり医療費'!F$5 -> -98.686772
A14: 栃 木 | B14: 211378.33 | C14: 56013.845 | D14: 129584.82 | E14: 21054.844 | F14: 4724.8231 | H14: ='1人当たり医療費'!A18 -> 東 京 | I14: ='1人当たり医療費'!B18-'1人当たり医療費'!B$5 -> -8604.3746 | J14: ='1人当たり医療費'!C18-'1人当たり医療費'!C$5 -> -7104.689 | K14: ='1人当たり医療費'!D18-'1人当たり医療費'!D$5 -> -1589.6785 | L14: ='1人当たり医療費'!E18-'1人当たり医療費'!E$5 -> 288.1173 | M14: ='1人当たり医療費'!F18-'1人当たり医療費'!F$5 -> -198.12442
A15: 群 馬 | B15: 204213.3 | C15: 54010.295 | D15: 124468.74 | E15: 20811.229 | F15: 4923.0393 | H15: ='1人当たり医療費'!A27 -> 静 岡 | I15: ='1人当たり医療費'!B27-'1人当たり医療費'!B$5 -> -7088.4178 | J15: ='1人当たり医療費'!C27-'1人当たり医療費'!C$5 -> -4059.1425 | K15: ='1人当たり医療費'!D27-'1人当たり医療費'!D$5 -> 88.635744 | L15: ='1人当たり医療費'!E27-'1人当たり医療費'!E$5 -> -1928.9961 | M15: ='1人当たり医療費'!F27-'1人当たり医療費'!F$5 -> -1188.9149
A16: 埼 玉 | B16: 204059.52 | C16: 51878.347 | D16: 125162.79 | E16: 21687.858 | F16: 5330.5246 | H16: ='1人当たり医療費'!A28 -> 愛 知 | I16: ='1人当たり医療費'!B28-'1人当たり医療費'!B$5 -> -6539.2165 | J16: ='1人当たり医療費'!C28-'1人当たり医療費'!C$5 -> -6729.0324 | K16: ='1人当たり医療費'!D28-'1人当たり医療費'!D$5 -> -1444.9897 | L16: ='1人当たり医療費'!E28-'1人当たり医療費'!E$5 -> 2050.8598 | M16: ='1人当たり医療費'!F28-'1人当たり医療費'!F$5 -> -416.05424
A17: 千 葉 | B17: 206702.71 | C17: 53914.858 | D17: 125674.71 | E17: 22285.41 | F17: 4827.7294 | H17: ='1人当たり医療費'!A22 -> 石 川 | I17: ='1人当たり医療費'!B22-'1人当たり医療費'!B$5 -> -4904.3438 | J17: ='1人当たり医療費'!C22-'1人当たり医療費'!C$5 -> 1658.9175 | K17: ='1人当たり医療費'!D22-'1人当たり医療費'!D$5 -> -3016.5181 | L17: ='1人当たり医療費'!E22-'1人当たり医療費'!E$5 -> -2800.2593 | M17: ='1人当たり医療費'!F22-'1人当たり医療費'!F$5 -> -746.48385
A18: 東 京 | B18: 204341.63 | C18: 48574.773 | D18: 126940.52 | E18: 23595.251 | F18: 5231.087 | H18: ='1人当たり医療費'!A17 -> 千 葉 | I18: ='1人当たり医療費'!B17-'1人当たり医療費'!B$5 -> -6243.2969 | J18: ='1人当たり医療費'!C17-'1人当たり医療費'!C$5 -> -1764.6041 | K18: ='1人当たり医療費'!D17-'1人当たり医療費'!D$5 -> -2855.4873 | L18: ='1人当たり医療費'!E17-'1人当たり医療費'!E$5 -> -1021.7236 | M18: ='1人当たり医療費'!F17-'1人当たり医療費'!F$5 -> -601.48194
A19: 神 奈 川 | B19: 216556.83 | C19: 54093.088 | D19: 133587.71 | E19: 23829.115 | F19: 5046.9208 | H19: ='1人当たり医療費'!A29 -> 三 重 | I19: ='1人当たり医療費'!B29-'1人当たり医療費'!B$5 -> -5224.1906 | J19: ='1人当たり医療費'!C29-'1人当たり医療費'!C$5 -> -1033.6944 | K19: ='1人当たり医療費'!D29-'1人当たり医療費'!D$5 -> -2729.7184 | L19: ='1人当たり医療費'!E29-'1人当たり医療費'!E$5 -> -804.19724 | M19: ='1人当たり医療費'!F29-'1人当たり医療費'!F$5 -> -656.58055
A20: 新 潟 | B20: 199110.44 | C20: 51912.013 | D20: 121961.87 | E20: 21266.226 | F20: 3970.3285 | H20: ='1人当たり医療費'!A39 -> 広 島 | I20: ='1人当たり医療費'!B39-'1人当たり医療費'!B$5 -> -4265.6157 | J20: ='1人当たり医療費'!C39-'1人当たり医療費'!C$5 -> -1681.4443 | K20: ='1人当たり医療費'!D39-'1人当たり医療費'!D$5 -> -1275.019 | L20: ='1人当たり医療費'!E39-'1人当たり医療費'!E$5 -> -308.85967 | M20: ='1人当たり医療費'!F39-'1人当たり医療費'!F$5 -> -1000.2927
A21: 富 山 | B21: 201220.69 | C21: 54031.838 | D21: 121431.37 | E21: 21131.547 | F21: 4625.9401 | H21: ='1人当たり医療費'!A12 -> 福 島 | I21: ='1人当たり医療費'!B12-'1人当たり医療費'!B$5 -> -2947.2272 | J21: ='1人当たり医療費'!C12-'1人当たり医療費'!C$5 -> 1656.7874 | K21: ='1人当たり医療費'!D12-'1人当たり医療費'!D$5 -> -854.58477 | L21: ='1人当たり医療費'!E12-'1人当たり医療費'!E$5 -> -2624.2312 | M21: ='1人当たり医療費'!F12-'1人当たり医療費'!F$5 -> -1125.1986
A22: 石 川 | B22: 208041.67 | C22: 57338.379 | D22: 125513.68 | E22: 20506.874 | F22: 4682.7275 | H22: ='1人当たり医療費'!A26 -> 岐 阜 | I22: ='1人当たり医療費'!B26-'1人当たり医療費'!B$5 -> -3527.9816 | J22: ='1人当たり医療費'!C26-'1人当たり医療費'!C$5 -> -3536.4088 | K22: ='1人当たり医療費'!D26-'1人当たり医療費'!D$5 -> -1245.2018 | L22: ='1人当たり医療費'!E26-'1人当たり医療費'!E$5 -> 1225.9601 | M22: ='1人当たり医療費'!F26-'1人当たり医療費'!F$5 -> 27.668891
A23: 福 井 | B23: 212338.76 | C23: 61990.946 | D23: 125126.35 | E23: 20180.286 | F23: 5041.1823 | H23: ='1人当たり医療費'!A24 -> 山 梨 | I23: ='1人当たり医療費'!B24-'1人当たり医療費'!B$5 -> -3143.6519 | J23: ='1人当たり医療費'!C24-'1人当たり医療費'!C$5 -> -907.7598 | K23: ='1人当たり医療費'!D24-'1人当たり医療費'!D$5 -> -763.23614 | L23: ='1人当たり医療費'!E24-'1人当たり医療費'!E$5 -> -1038.6028 | M23: ='1人当たり医療費'!F24-'1人当たり医療費'!F$5 -> -434.05321
A24: 山 梨 | B24: 209802.36 | C24: 54771.702 | D24: 127766.97 | E24: 22268.53 | F24: 4995.1582 | H24: ='1人当たり医療費'!A14 -> 栃 木 | I24: ='1人当たり医療費'!B14-'1人当たり医療費'!B$5 -> -1567.6763 | J24: ='1人当たり医療費'!C14-'1人当たり医療費'!C$5 -> 334.38329 | K24: ='1人当たり医療費'!D14-'1人当たり医療費'!D$5 -> 1054.6177 | L24: ='1人当たり医療費'!E14-'1人当たり医療費'!E$5 -> -2252.289 | M24: ='1人当たり医療費'!F14-'1人当たり医療費'!F$5 -> -704.38831
A25: 長 野 | B25: 201725.55 | C25: 54169.181 | D25: 121397.08 | E25: 21541.249 | F25: 4618.0438 | H25: ='1人当たり医療費'!A31 -> 京 都 | I25: ='1人当たり医療費'!B31-'1人当たり医療費'!B$5 -> -2437.0715 | J25: ='1人当たり医療費'!C31-'1人当たり医療費'!C$5 -> -850.09259 | K25: ='1人当たり医療費'!D31-'1人当たり医療費'!D$5 -> -3111.4349 | L25: ='1人当たり医療費'!E31-'1人当たり医療費'!E$5 -> 404.55302 | M25: ='1人当たり医療費'!F31-'1人当たり医療費'!F$5 -> 1119.903
A26: 岐 阜 | B26: 209418.03 | C26: 52143.053 | D26: 127285 | E26: 24533.093 | F26: 5456.8803 | H26: ='1人当たり医療費'!A8 -> 岩 手 | I26: ='1人当たり医療費'!B8-'1人当たり医療費'!B$5 -> -112.98385 | J26: ='1人当たり医療費'!C8-'1人当たり医療費'!C$5 -> -624.97067 | K26: ='1人当たり医療費'!D8-'1人当たり医療費'!D$5 -> 3522.7941 | L26: ='1人当たり医療費'!E8-'1人当たり医療費'!E$5 -> -1841.9933 | M26: ='1人当たり医療費'!F8-'1人当たり医療費'!F$5 -> -1168.814
A27: 静 岡 | B27: 205857.59 | C27: 51620.319 | D27: 128618.84 | E27: 21378.137 | F27: 4240.2965 | H27: ='1人当たり医療費'!A36 -> 鳥 取 | I27: ='1人当たり医療費'!B36-'1人当たり医療費'!B$5 -> -1612.6792 | J27: ='1人当たり医療費'!C36-'1人当たり医療費'!C$5 -> 7346.415 | K27: ='1人当たり医療費'!D36-'1人当たり医療費'!D$5 -> -5557.2811 | L27: ='1人当たり医療費'!E36-'1人当たり医療費'!E$5 -> -1536.1587 | M27: ='1人当たり医療費'!F36-'1人当たり医療費'!F$5 -> -1865.6545
A28: 愛 知 | B28: 206406.79 | C28: 48950.43 | D28: 127085.21 | E28: 25357.993 | F28: 5013.1572 | H28: ='1人当たり医療費'!A34 -> 奈 良 | I28: ='1人当たり医療費'!B34-'1人当たり医療費'!B$5 -> 2694.7853 | J28: ='1人当たり医療費'!C34-'1人当たり医療費'!C$5 -> 2708.4676 | K28: ='1人当たり医療費'!D34-'1人当たり医療費'!D$5 -> -452.50889 | L28: ='1人当たり医療費'!E34-'1人当たり医療費'!E$5 -> -567.69438 | M28: ='1人当たり医療費'!F34-'1人当たり医療費'!F$5 -> 1006.521
A29: 三 重 | B29: 207721.82 | C29: 54645.768 | D29: 125800.48 | E29: 22502.936 | F29: 4772.6308 | H29: ='1人当たり医療費'!A23 -> 福 井 | I29: ='1人当たり医療費'!B23-'1人当たり医療費'!B$5 -> -607.24667 | J29: ='1人当たり医療費'!C23-'1人当たり医療費'!C$5 -> 6311.4843 | K29: ='1人当たり医療費'!D23-'1人当たり医療費'!D$5 -> -3403.8545 | L29: ='1人当たり医療費'!E23-'1人当たり医療費'!E$5 -> -3126.8474 | M29: ='1人当たり医療費'!F23-'1人当たり医療費'!F$5 -> -388.0291
A30: 滋 賀 | B30: 204590.99 | C30: 54689.8 | D30: 123235.67 | E30: 21494.217 | F30: 5171.306 | H30: ='1人当たり医療費'!A19 -> 神 奈 川 | I30: ='1人当たり医療費'!B19-'1人当たり医療費'!B$5 -> 3610.826 | J30: ='1人当たり医療費'!C19-'1人当たり医療費'!C$5 -> -1586.3745 | K30: ='1人当たり医療費'!D19-'1人当たり医療費'!D$5 -> 5057.5094 | L30: ='1人当たり医療費'!E19-'1人当たり医療費'!E$5 -> 521.98168 | M30: ='1人当たり医療費'!F19-'1人当たり医療費'!F$5 -> -382.29058
A31: 京 都 | B31: 210508.94 | C31: 54829.369 | D31: 125418.77 | E31: 23711.686 | F31: 6549.1144 | H31: ='1人当たり医療費'!A38 -> 岡 山 | I31: ='1人当たり医療費'!B38-'1人当たり医療費'!B$5 -> 1313.9836 | J31: ='1人当たり医療費'!C38-'1人当たり医療費'!C$5 -> 1415.8224 | K31: ='1人当たり医療費'!D38-'1人当たり医療費'!D$5 -> -1198.5712 | L31: ='1人当たり医療費'!E38-'1人当たり医療費'!E$5 -> 2381.0795 | M31: ='1人当たり医療費'!F38-'1人当たり医療費'!F$5 -> -1284.3472
A32: 大 阪 | B32: 217857.78 | C32: 54671.97 | D32: 128263.49 | E32: 26801.465 | F32: 8120.8504 | H32: ='1人当たり医療費'!A43 -> 愛 媛 | I32: ='1人当たり医療費'!B43-'1人当たり医療費'!B$5 -> 2601.4268 | J32: ='1人当たり医療費'!C43-'1人当たり医療費'!C$5 -> 3057.8579 | K32: ='1人当たり医療費'!D43-'1人当たり医療費'!D$5 -> 1212.342 | L32: ='1人当たり医療費'!E43-'1人当たり医療費'!E$5 -> -1702.5066 | M32: ='1人当たり医療費'!F43-'1人当たり医療費'!F$5 -> 33.733606
A33: 兵 庫 | B33: 219786.56 | C33: 56414.693 | D33: 131743.83 | E33: 25590.512 | F33: 6037.5207 | H33: ='1人当たり医療費'!A50 -> 宮 崎 | I33: ='1人当たり医療費'!B50-'1人当たり医療費'!B$5 -> -155.80181 | J33: ='1人当たり医療費'!C50-'1人当たり医療費'!C$5 -> 3637.5065 | K33: ='1人当たり医療費'!D50-'1人当たり医療費'!D$5 -> -1430.8766 | L33: ='1人当たり医療費'!E50-'1人当たり医療費'!E$5 -> -2333.2996 | M33: ='1人当たり医療費'!F50-'1人当たり医療費'!F$5 -> -29.132146
A34: 奈 良 | B34: 215640.79 | C34: 58387.93 | D34: 128077.69 | E34: 22739.439 | F34: 6435.7324 | H34: ='1人当たり医療費'!A32 -> 大 阪 | I34: ='1人当たり医療費'!B32-'1人当たり医療費'!B$5 -> 4911.7667 | J34: ='1人当たり医療費'!C32-'1人当たり医療費'!C$5 -> -1007.4919 | K34: ='1人当たり医療費'!D32-'1人当たり医療費'!D$5 -> -266.71245 | L34: ='1人当たり医療費'!E32-'1人当たり医療費'!E$5 -> 3494.332 | M34: ='1人当たり医療費'!F32-'1人当たり医療費'!F$5 -> 2691.639
A35: 和 歌 山 | B35: 220962.66 | C35: 57972.444 | D35: 132253.03 | E35: 23177.544 | F35: 7559.6383 | H35: ='1人当たり医療費'!A7 -> 青 森 | I35: ='1人当たり医療費'!B7-'1人当たり医療費'!B$5 -> 6226.296 | J35: ='1人当たり医療費'!C7-'1人当たり医療費'!C$5 -> 3819.7469 | K35: ='1人当たり医療費'!D7-'1人当たり医療費'!D$5 -> 7099.1524 | L35: ='1人当たり医療費'!E7-'1人当たり医療費'!E$5 -> -2855.2712 | M35: ='1人当たり医療費'!F7-'1人当たり医療費'!F$5 -> -1837.3322
A36: 鳥 取 | B36: 211333.33 | C36: 63025.877 | D36: 122972.92 | E36: 21770.975 | F36: 3563.5569 | H36: ='1人当たり医療費'!A33 -> 兵 庫 | I36: ='1人当たり医療費'!B33-'1人当たり医療費'!B$5 -> 6840.5487 | J36: ='1人当たり医療費'!C33-'1人当たり医療費'!C$5 -> 735.23115 | K36: ='1人当たり医療費'!D33-'1人当たり医療費'!D$5 -> 3213.6292 | L36: ='1人当たり医療費'!E33-'1人当たり医療費'!E$5 -> 2283.3791 | M36: ='1人当たり医療費'!F33-'1人当たり医療費'!F$5 -> 608.30929
A37: 島 根 | B37: 226622.78 | C37: 66147.568 | D37: 135747.58 | E37: 21226.18 | F37: 3501.4543 | H37: ='1人当たり医療費'!A35 -> 和 歌 山 | I37: ='1人当たり医療費'!B35-'1人当たり医療費'!B$5 -> 8016.6516 | J37: ='1人当たり医療費'!C35-'1人当たり医療費'!C$5 -> 2292.9822 | K37: ='1人当たり医療費'!D35-'1人当たり医療費'!D$5 -> 3722.8318 | L37: ='1人当たり医療費'!E35-'1人当たり医療費'!E$5 -> -129.5893 | M37: ='1人当たり医療費'!F35-'1人当たり医療費'!F$5 -> 2130.4269
A38: 岡 山 | B38: 214259.99 | C38: 57095.284 | D38: 127331.63 | E38: 25688.213 | F38: 4144.8642 | H38: ='1人当たり医療費'!A9 -> 宮 城 | I38: ='1人当たり医療費'!B9-'1人当たり医療費'!B$5 -> 8604.2907 | J38: ='1人当たり医療費'!C9-'1人当たり医療費'!C$5 -> 4595.8829 | K38: ='1人当たり医療費'!D9-'1人当たり医療費'!D$5 -> 6479.5778 | L38: ='1人当たり医療費'!E9-'1人当たり医療費'!E$5 -> -1952.012 | M38: ='1人当たり医療費'!F9-'1人当たり医療費'!F$5 -> -519.15798
A39: 広 島 | B39: 208680.39 | C39: 53998.018 | D39: 127255.18 | E39: 22998.274 | F39: 4428.9187 | H39: ='1人当たり医療費'!A44 -> 高 知 | I39: ='1人当たり医療費'!B44-'1人当たり医療費'!B$5 -> 6702.9934 | J39: ='1人当たり医療費'!C44-'1人当たり医療費'!C$5 -> 10204.254 | K39: ='1人当たり医療費'!D44-'1人当たり医療費'!D$5 -> -790.00491 | L39: ='1人当たり医療費'!E44-'1人当たり医療費'!E$5 -> -2187.558 | M39: ='1人当たり医療費'!F44-'1人当たり医療費'!F$5 -> -523.69746
A40: 山 口 | B40: 226710.58 | C40: 62730.098 | D40: 134935.84 | E40: 24265.377 | F40: 4779.2568 | H40: ='1人当たり医療費'!A11 -> 山 形 | I40: ='1人当たり医療費'!B11-'1人当たり医療費'!B$5 -> 9807.9685 | J40: ='1人当たり医療費'!C11-'1人当たり医療費'!C$5 -> 3936.9247 | K40: ='1人当たり医療費'!D11-'1人当たり医療費'!D$5 -> 8201.1348 | L40: ='1人当たり医療費'!E11-'1人当たり医療費'!E$5 -> -968.89079 | M40: ='1人当たり医療費'!F11-'1人当たり医療費'!F$5 -> -1361.2002
A41: 徳 島 | B41: 228044.85 | C41: 63064.561 | D41: 133216.48 | E41: 25404.412 | F41: 6359.3982 | H41: ='1人当たり医療費'!A45 -> 福 岡 | I41: ='1人当たり医療費'!B45-'1人当たり医療費'!B$5 -> 8001.3751 | J41: ='1人当たり医療費'!C45-'1人当たり医療費'!C$5 -> 5243.8947 | K41: ='1人当たり医療費'!D45-'1人当たり医療費'!D$5 -> -299.30254 | L41: ='1人当たり医療費'!E45-'1人当たり医療費'!E$5 -> 1400.8451 | M41: ='1人当たり医療費'!F45-'1人当たり医療費'!F$5 -> 1655.9377
A42: 香 川 | B42: 222321.15 | C42: 58933.088 | D42: 133005.96 | E42: 25215.278 | F42: 5166.8231 | H42: ='1人当たり医療費'!A37 -> 島 根 | I42: ='1人当たり医療費'!B37-'1人当たり医療費'!B$5 -> 13676.775 | J42: ='1人当たり医療費'!C37-'1人当たり医療費'!C$5 -> 10468.106 | K42: ='1人当たり医療費'!D37-'1人当たり医療費'!D$5 -> 7217.3799 | L42: ='1人当たり医療費'!E37-'1人当たり医療費'!E$5 -> -2080.9533 | M42: ='1人当たり医療費'!F37-'1人当たり医療費'!F$5 -> -1927.7571
A43: 愛 媛 | B43: 215547.44 | C43: 58737.32 | D43: 129742.54 | E43: 21604.627 | F43: 5462.945 | H43: ='1人当たり医療費'!A42 -> 香 川 | I43: ='1人当たり医療費'!B42-'1人当たり医療費'!B$5 -> 9375.1377 | J43: ='1人当たり医療費'!C42-'1人当たり医療費'!C$5 -> 3253.6258 | K43: ='1人当たり医療費'!D42-'1人当たり医療費'!D$5 -> 4475.755 | L43: ='1人当たり医療費'!E42-'1人当たり医療費'!E$5 -> 1908.1453 | M43: ='1人当たり医療費'!F42-'1人当たり医療費'!F$5 -> -262.3883
A44: 高 知 | B44: 219649 | C44: 65883.716 | D44: 127740.2 | E44: 21119.575 | F44: 4905.5139 | H44: ='1人当たり医療費'!A51 -> 鹿 児 島 | I44: ='1人当たり医療費'!B51-'1人当たり医療費'!B$5 -> 10266.673 | J44: ='1人当たり医療費'!C51-'1人当たり医療費'!C$5 -> 10501.036 | K44: ='1人当たり医療費'!D51-'1人当たり医療費'!D$5 -> 1728.9119 | L44: ='1人当たり医療費'!E51-'1人当たり医療費'!E$5 -> -2522.0096 | M44: ='1人当たり医療費'!F51-'1人当たり医療費'!F$5 -> 558.73514
A45: 福 岡 | B45: 220947.38 | C45: 60923.357 | D45: 128230.9 | E45: 24707.978 | F45: 7085.1491 | H45: ='1人当たり医療費'!A48 -> 熊 本 | I45: ='1人当たり医療費'!B48-'1人当たり医療費'!B$5 -> 10974.677 | J45: ='1人当たり医療費'!C48-'1人当たり医療費'!C$5 -> 8995.7215 | K45: ='1人当たり医療費'!D48-'1人当たり医療費'!D$5 -> 2133.2415 | L45: ='1人当たり医療費'!E48-'1人当たり医療費'!E$5 -> -808.21857 | M45: ='1人当たり医療費'!F48-'1人当たり医療費'!F$5 -> 653.9321
A46: 佐 賀 | B46: 241773.96 | C46: 71109.046 | D46: 141065.85 | E46: 22640.81 | F46: 6958.2557 | H46: ='1人当たり医療費'!A40 -> 山 口 | I46: ='1人当たり医療費'!B40-'1人当たり医療費'!B$5 -> 13764.567 | J46: ='1人当たり医療費'!C40-'1人当たり医療費'!C$5 -> 7050.6359 | K46: ='1人当たり医療費'!D40-'1人当たり医療費'!D$5 -> 6405.6424 | L46: ='1人当たり医療費'!E40-'1人当たり医療費'!E$5 -> 958.2434 | M46: ='1人当たり医療費'!F40-'1人当たり医療費'!F$5 -> -649.95463
A47: 長 崎 | B47: 227819.05 | C47: 66994.093 | D47: 131229.91 | E47: 23105.881 | F47: 6489.1699 | H47: ='1人当たり医療費'!A49 -> 大 分 | I47: ='1人当たり医療費'!B49-'1人当たり医療費'!B$5 -> 14841.216 | J47: ='1人当たり医療費'!C49-'1人当たり医療費'!C$5 -> 11341.975 | K47: ='1人当たり医療費'!D49-'1人当たり医療費'!D$5 -> 6410.7484 | L47: ='1人当たり医療費'!E49-'1人当たり医療費'!E$5 -> -3314.4254 | M47: ='1人当たり医療費'!F49-'1人当たり医療費'!F$5 -> 402.91811
A48: 熊 本 | B48: 223920.69 | C48: 64675.183 | D48: 130663.44 | E48: 22498.915 | F48: 6083.1435 | H48: ='1人当たり医療費'!A41 -> 徳 島 | I48: ='1人当たり医療費'!B41-'1人当たり医療費'!B$5 -> 15098.838 | J48: ='1人当たり医療費'!C41-'1人当たり医療費'!C$5 -> 7385.0986 | K48: ='1人当たり医療費'!D41-'1人当たり医療費'!D$5 -> 4686.2746 | L48: ='1人当たり医療費'!E41-'1人当たり医療費'!E$5 -> 2097.2783 | M48: ='1人当たり医療費'!F41-'1人当たり医療費'!F$5 -> 930.18686
A49: 大 分 | B49: 227787.22 | C49: 67021.437 | D49: 134940.95 | E49: 19992.708 | F49: 5832.1295 | H49: ='1人当たり医療費'!A47 -> 長 崎 | I49: ='1人当たり医療費'!B47-'1人当たり医療費'!B$5 -> 14873.045 | J49: ='1人当たり医療費'!C47-'1人当たり医療費'!C$5 -> 11314.631 | K49: ='1人当たり医療費'!D47-'1人当たり医療費'!D$5 -> 2699.7075 | L49: ='1人当たり医療費'!E47-'1人当たり医療費'!E$5 -> -201.25182 | M49: ='1人当たり医療費'!F47-'1人当たり医療費'!F$5 -> 1059.9585
A50: 宮 崎 | B50: 212790.21 | C50: 59316.968 | D50: 127099.33 | E50: 20973.834 | F50: 5400.0792 | H50: ='1人当たり医療費'!A10 -> 秋 田 | I50: ='1人当たり医療費'!B10-'1人当たり医療費'!B$5 -> 23954.462 | J50: ='1人当たり医療費'!C10-'1人当たり医療費'!C$5 -> 12136.348 | K50: ='1人当たり医療費'!D10-'1人当たり医療費'!D$5 -> 13026.329 | L50: ='1人当たり医療費'!E10-'1人当たり医療費'!E$5 -> -508.77986 | M50: ='1人当たり医療費'!F10-'1人当たり医療費'!F$5 -> -699.43568
A51: 鹿 児 島 | B51: 223212.68 | C51: 66180.498 | D51: 130259.11 | E51: 20785.124 | F51: 5987.9465 | H51: ='1人当たり医療費'!A6 -> 北 海 道 | I51: ='1人当たり医療費'!B6-'1人当たり医療費'!B$5 -> 22441.411 | J51: ='1人当たり医療費'!C6-'1人当たり医療費'!C$5 -> 14265.485 | K51: ='1人当たり医療費'!D6-'1人当たり医療費'!D$5 -> 8821.413 | L51: ='1人当たり医療費'!E6-'1人当たり医療費'!E$5 -> 303.09333 | M51: ='1人当たり医療費'!F6-'1人当たり医療費'!F$5 -> -948.57982
A52: 沖 縄 | B52: 197409.89 | C52: 59341.984 | D52: 113230.68 | E52: 19779.389 | F52: 5057.8422 | H52: ='1人当たり医療費'!A46 -> 佐 賀 | I52: ='1人当たり医療費'!B46-'1人当たり医療費'!B$5 -> 28827.955 | J52: ='1人当たり医療費'!C46-'1人当たり医療費'!C$5 -> 15429.584 | K52: ='1人当たり医療費'!D46-'1人当たり医療費'!D$5 -> 12535.649 | L52: ='1人当たり医療費'!E46-'1人当たり医療費'!E$5 -> -666.3228 | M52: ='1人当たり医療費'!F46-'1人当たり医療費'!F$5 -> 1529.0443

Sheet 地域差指数-1
A1: 都道府県支部別 地域差指数－１（入院、入院外（調剤を含む）、歯科、その他）の比較（令和６年度）（年齢調整後）
D3: １人当たり医療費
B4: 合計 | C4: 入院 | D4: 入院外（調剤を含む） | E4: 歯科 | F4: その他
A5: 全国平均 | B5: 0 | C5: 0 | D5: 0 | E5: 0 | F5: 0
A6: 新 潟 | B6: -0.087894155 | C6: -0.025724929 | D6: -0.043840583 | E6: -0.011089255 | F6: -0.007239388
A7: 富 山 | B7: -0.06838635 | C7: -0.012201147 | D7: -0.041030987 | E7: -0.01109257 | F7: -0.0040616461
A8: 長 野 | B8: -0.066286781 | C8: -0.011684501 | D8: -0.04159969 | E8: -0.008931008 | F8: -0.0040715828
A9: 茨 城 | B9: -0.061509535 | C9: -0.021899741 | D9: -0.019117643 | E9: -0.012943359 | F9: -0.0075487929
A10: 岩 手 | B10: -0.051010374 | C10: -0.018732078 | D10: -0.01429643 | E10: -0.011754865 | F10: -0.0062270017
A11: 沖 縄 | B11: -0.049453304 | C11: 0.023525086 | D11: -0.057353587 | E11: -0.014263635 | F11: -0.0013611676
A12: 埼 玉 | B12: -0.045053911 | C12: -0.018003705 | D12: -0.018396595 | E12: -0.0081149013 | F12: -0.00053870983
A13: 福 島 | B13: -0.044922978 | C13: -0.0042409124 | D13: -0.021012605 | E13: -0.013909964 | F13: -0.005759496
A14: 群 馬 | B14: -0.044626787 | C14: -0.0087862943 | D14: -0.021419248 | E14: -0.011949338 | F14: -0.0024719062
A15: 静 岡 | B15: -0.041953552 | C15: -0.021485302 | D15: -0.0050728449 | E15: -0.0096234107 | F15: -0.0057719946
A16: 千 葉 | B16: -0.03969386 | C16: -0.011758438 | D16: -0.019471389 | E16: -0.0054261281 | F16: -0.0030379047
... A52: 佐 賀 | B52: 0.10788047 | C52: 0.060229003 | D52: 0.043974757 | E52: -0.0032294265 | F52: 0.0069061367

Sheet 地域差比較（市町村国保）
A1: 地域差指数の比較（協会けんぽと市町村国保）
B3: 協会けんぽ | C3: 市町村国保
A4: 全国平均 | B4: 1 | C4: 1
A5: 北 海 道 | B5: 1.0451186 | C5: 1.056
A6: 青 森 | B6: 0.96889824 | C6: 0.943
A7: 岩 手 | B7: 0.94898963 | C7: 0.981
A8: 宮 城 | B8: 1.0129223 | C8: 1.011
A9: 秋 田 | B9: 1.0153397 | C9: 1.022
A10: 山 形 | B10: 0.99720702 | C10: 1.016
A11: 福 島 | B11: 0.95507702 | C11: 0.94
A12: 茨 城 | B12: 0.93849046 | C12: 0.877
A13: 栃 木 | B13: 0.97778704 | C13: 0.928
A14: 群 馬 | B14: 0.95537321 | C14: 0.945
A15: 埼 玉 | B15: 0.95494609 | C15: 0.925
... A51: 沖 縄 | B51: 0.9505467 | C51: 1.029

Sheet ３要素分解
A1: 加入者１人当たり医療費の３要素分解
B2: １人当たり医療費 | E2: 受診率 | H2: １件当たり日数 | K2: １日当たり医療費
D3: （円／人） | G3: （件／千人） | J3: （日／件） | M3: （円／日）
B4: 入院 | C4: 入院外（調剤を含む） | D4: 歯科 | E4: 入院 | F4: 入院外 | G4: 歯科 | H4: 入院 | I4: 入院外 | J4: 歯科 | K4: 入院 | L4: 入院外（調剤を含む） | M4: 歯科
A5: 全国平均 | B5: 55679.462 | C5: 128530.2 | D5: 23307.133 | E5: 93.706138 | F5: 6794.1041 | G5: 1846.9673 | H5: 9.1016656 | I5: 1.3501593 | J5: 1.4951521 | K5: 65283.904 | L5: 14011.609 | M5: 8440.0358
A6: 北 海 道 | B6: 69944.947 | C6: 137351.62 | D6: 23610.227 | E6: 116.64335 | F6: 6426.975 | G6: 1646.2997 | H6: 9.0981909 | I6: 1.3084456 | J6: 1.6268845 | K6: 65908.482 | L6: 16333.208 | M6: 8815.2481
A7: 青 森 | B7: 59499.209 | C7: 135629.35 | D7: 20451.862 | E7: 96.026457 | F7: 6994.371 | G7: 1533.1039 | H7: 10.2261 | I7: 1.3437304 | J7: 1.5892404 | K7: 60591.297 | L7: 14430.883 | M7: 8394.0523
A8: 岩 手 | B8: 55054.491 | C8: 132053 | D8: 21465.14 | E8: 97.11273 | F8: 6808.3497 | G8: 1676.6201 | H8: 10.042893 | I8: 1.3013422 | J8: 1.5117982 | K8: 56449.196 | L8: 14904.414 | M8: 8468.4756
A9: 宮 城 | B9: 60275.345 | C9: 135009.78 | D9: 21355.121 | E9: 98.203313 | F9: 6982.9719 | G9: 1790.1047 | H9: 9.3284446 | I9: 1.2944553 | J9: 1.4641197 | K9: 65796.732 | L9: 14936.123 | M9: 8147.925
A10: 秋 田 | B10: 67815.81 | C10: 141556.53 | D10: 22798.353 | E10: 111.44816 | F10: 7283.6255 | G10: 1678.1056 | H10: 10.324082 | I10: 1.2874089 | J10: 1.5170986 | K10: 58939.519 | L10: 15096.136 | M10: 8955.0989
A11: 山 形 | B11: 59616.387 | C11: 136731.34 | D11: 22338.242 | E11: 99.210358 | F11: 7568.4665 | G11: 1910.8995 | H11: 9.9596099 | I11: 1.3037698 | J11: 1.3935377 | K11: 60334.582 | L11: 13856.682 | M11: 8388.6568
A12: 福 島 | B12: 57336.249 | C12: 127675.62 | D12: 20682.902 | E12: 99.50468 | F12: 6849.8897 | G12: 1712.2184 | H12: 9.3204621 | I12: 1.2966771 | J12: 1.5228831 | K12: 61822.751 | L12: 14374.493 | M12: 7932.0556
A13: 茨 城 | B13: 51524.446 | C13: 125489.53 | D13: 20656.39 | E13: 87.147132 | F13: 6443.9572 | G13: 1726.4925 | H13: 8.973563 | I13: 1.3201356 | J13: 1.5079425 | K13: 65886.33 | L13: 14751.504 | M13: 7934.2326
A14: 栃 木 | B14: 56013.845 | C14: 129584.82 | D14: 21054.844 | E14: 90.931355 | F14: 6919.3415 | G14: 1812.7991 | H14: 9.4719699 | I14: 1.3446315 | J14: 1.5185429 | K14: 65034.142 | L14: 13927.914 | M14: 7648.4829
A15: 群 馬 | B15: 54010.295 | C15: 124468.74 | D15: 20811.229 | E15: 89.784272 | F15: 6832.7477 | G15: 1813.6996 | H15: 9.6074236 | I15: 1.3499981 | J15: 1.5104885 | K15: 62613.697 | L15: 13493.722 | M15: 7596.5244
A16: 埼 玉 | B16: 51878.347 | C16: 125162.79 | D16: 21687.858 | E16: 84.012938 | F16: 6487.0247 | G16: 1852.2775 | H16: 9.2204509 | I16: 1.3514871 | J16: 1.4984701 | K16: 66971.157 | L16: 14276.37 | M16: 7813.8044
... A52: 沖 縄 | B52: 59341.984 | C52: 113230.68 | D52: 19779.389 | E52: 100.88464 | F52: 5900.0055 | G52: 1555.7515 | H52: 8.9203038 | I52: 1.3056276 | J52: 1.5030932 | K52: 65941.282 | L52: 14699.155 | M52: 8458.3712

Sheet 入院医療費と平均在院日数
A1: 加入者１人当たり入院医療費と平均在院日数（令和６年度）
B2: （日） | C2: （円／人）
B3: 平均在院日数 | C3: １人当たり入院医療費
A4: 全国平均 | B4: 25.6 | C4: 55679.462
A5: 北 海 道 | B5: 29.1 | C5: 69944.947
A6: 青 森 | B6: 29.3 | C6: 59499.209
A7: 岩 手 | B7: 29 | C7: 55054.491
A8: 宮 城 | B8: 23 | C8: 60275.345
A9: 秋 田 | B9: 28.5 | C9: 67815.81
A10: 山 形 | B10: 27 | C10: 59616.387
A11: 福 島 | B11: 25.7 | C11: 57336.249
A12: 茨 城 | B12: 25 | C12: 51524.446
A13: 栃 木 | B13: 25.9 | C13: 56013.845
A14: 群 馬 | B14: 26.3 | C14: 54010.295
A15: 埼 玉 | B15: 25.9 | C15: 51878.347
... A51: 沖 縄 | B51: 27.4 | C51: 59341.984

Sheet 入院医療費と病床数
A1: 加入者１人当たり入院医療費と人口10万対病床数（令和６年度）
B2: （床） | C2: （円／人）
B3: 人口10万対病床数 | C3: １人当たり入院医療費
A4: 全国平均 | B4: 1187.3 | C4: 55679.462
A5: 北 海 道 | B5: 1754.8 | C5: 69944.947
A6: 青 森 | B6: 1354.5 | C6: 59499.209
A7: 岩 手 | B7: 1371.9 | C7: 55054.491
A8: 宮 城 | B8: 1082.9 | C8: 60275.345
A9: 秋 田 | B9: 1503.7 | C9: 67815.81
A10: 山 形 | B10: 1341.2 | C10: 59616.387
A11: 福 島 | B11: 1354.9 | C11: 57336.249
A12: 茨 城 | B12: 1068.4 | C12: 51524.446
A13: 栃 木 | B13: 1094.9 | C13: 56013.845
A14: 群 馬 | B14: 1216.6 | C14: 54010.295
A15: 埼 玉 | B15: 856.3 | C15: 51878.347
... A51: 沖 縄 | B51: 1286.2 | C51: 59341.984

Sheet 年齢階級別1人当たり医療費
A1: 医療費の年齢階級毎の内訳
A3: （令和６年度）
A4: 医療費の内訳（年齢階級毎の内訳） | I4: （％）
B5: 入院
B6: ０～９歳 | C6: 10～19歳 | D6: 20～29歳 | E6: 30～39歳 | F6: 40～49歳 | G6: 50～59歳 | H6: 60～69歳 | I6: 70歳以上
A7: 全 国 | B7: 9.6877589 | C7: 4.802361 | D7: 5.2421299 | E7: 7.7154746 | F7: 11.69092 | G7: 21.603759 | H7: 27.029075 | I7: 12.228523
A9: （令和６年度）
A10: 医療費の内訳（年齢階級毎の内訳） | I10: （％）
B11: 入院外
B12: ０～９歳 | C12: 10～19歳 | D12: 20～29歳 | E12: 30～39歳 | F12: 40～49歳 | G12: 50～59歳 | H12: 60～69歳 | I12: 70歳以上
A13: 全 国 | B13: 8.5412542 | C13: 7.4813958 | D13: 6.7117408 | E13: 9.781421 | F13: 15.355842 | G13: 22.687913 | H13: 21.420572 | I13: 8.0198611
A16: 加入者１人当たり医療費（年齢階級別） | I16: （円／人）
B17: 入院
B18: ０～９歳 | C18: 10～19歳 | D18: 20～29歳 | E18: 30～39歳 | F18: 40～49歳 | G18: 50～59歳 | H18: 60～69歳 | I18: 70歳以上
A19: 全 国 | B19: 62019.389 | C19: 23628.743 | D19: 22265.779 | E19: 30953.985 | F19: 37217.593 | G19: 65719.16 | H19: 125440.4 | I19: 208416.72
A20: 北 海 道 | B20: 66828.511 | C20: 24990.592 | D20: 24916.283 | E20: 34391.548 | F20: 45628.281 | G20: 79386.091 | H20: 149997.69 | I20: 234695.2
A21: 青 森 | B21: 47199.242 | C21: 25140.031 | D21: 26603.422 | E21: 32503.644 | F21: 38966.241 | G21: 67810.123 | H21: 122490.14 | I21: 185376.71
A22: 岩 手 | B22: 53888.777 | C22: 28174.655 | D22: 26011.817 | E22: 39410.211 | F22: 34477.835 | G22: 61686.125 | H22: 106049.8 | I22: 170124.77
A23: 宮 城 | B23: 58052.216 | C23: 20773.996 | D23: 21462.977 | E23: 32807.397 | F23: 41354.021 | G23: 72073.875 | H23: 132637.39 | I23: 210505.88
A24: 秋 田 | B24: 64796.603 | C24: 29033.285 | D24: 28292.859 | E24: 36381.39 | F24: 44148.564 | G24: 78296.356 | H24: 132079.62 | I24: 195350.7
A25: 山 形 | B25: 57595.492 | C25: 24898.36 | D25: 30074.915 | E25: 33046.474 | F25: 41144.566 | G25: 63637.351 | H25: 121957.99 | I25: 186526.88
A26: 福 島 | B26: 58519.206 | C26: 27254.945 | D26: 25027.569 | E26: 32730.536 | F26: 36748.962 | G26: 62392.013 | H26: 119141.51 | I26: 189894.94
A27: 茨 城 | B27: 55297.284 | C27: 20367.307 | D27: 22522.728 | E27: 30656.253 | F27: 34794.509 | G27: 61078.704 | H27: 110701.53 | I27: 177054.59
A28: 栃 木 | B28: 64613.173 | C28: 21221.359 | D28: 22249.146 | E28: 31735.161 | F28: 37367.36 | G28: 65861.688 | H28: 119414.84 | I28: 201295.42
A29: 群 馬 | B29: 64797.203 | C29: 26797.862 | D29: 20387.842 | E29: 29182.102 | F29: 37328.776 | G29: 61982.664 | H29: 117788.22 | I29: 189490.48
A30: 埼 玉 | B30: 57914.334 | C30: 22672.334 | D30: 21324.906 | E30: 27752.073 | F30: 34820.522 | G30: 62228.629 | H30: 115751.39 | I30: 187937.71
... A66: 沖 縄 | B66: 62410.053 | C66: 22782.473 | D66: 26712.346 | E66: 37220.067 | F66: 43274.998 | G66: 72353.118 | H66: 132527.79 | I66: 226155.43
A68: 加入者１人当たり医療費（年齢階級別） | I68: （円／人）
B69: 入院外
B70: ０～９歳 | C70: 10～19歳 | D70: 20～29歳 | E70: 30～39歳 | F70: 40～49歳 | G70: 50～59歳 | H70: 60～69歳 | I70: 70歳以上
A71: 全 国 | B71: 123778.81 | C71: 83327.611 | D71: 64533.584 | E71: 88833.417 | F71: 110660.78 | G71: 156234.79 | H71: 225039.01 | I71: 309418.24
A72: 北 海 道 | B72: 118105.73 | C72: 73664.796 | D72: 68279.659 | E72: 92322.363 | F72: 117955.44 | G72: 163489.86 | H72: 228853.84 | I72: 308792.89
A73: 青 森 | B73: 123337.56 | C73: 77285.937 | D73: 63940.799 | E73: 90730.77 | F73: 111277.75 | G73: 160880.77 | H73: 219198.05 | I73: 305779.28
A74: 岩 手 | B74: 113191.9 | C74: 78766.623 | D74: 67221.516 | E74: 89041.753 | F74: 107966.93 | G74: 155799.24 | H74: 218592.83 | I74: 306623.24
A75: 宮 城 | B75: 123571.36 | C75: 78435.521 | D75: 65918.923 | E75: 90326.628 | F75: 111168.58 | G75: 163232.75 | H75: 235587.52 | I75: 328402.74
A76: 秋 田 | B76: 123088.48 | C76: 89547.842 | D76: 72075.663 | E76: 90777.543 | F76: 108173.27 | G76: 159527.87 | H76: 219855.83 | I76: 315291.54
A77: 山 形 | B77: 126208.76 | C77: 90167.043 | D77: 69999.334 | E77: 93360.901 | F77: 110294.73 | G77: 159087.68 | H77: 220444.95 | I77: 317768.69
A78: 福 島 | B78: 121821.6 | C78: 78660.626 | D78: 66278.702 | E78: 85076.244 | F78: 110499.51 | G78: 150991.25 | H78: 212075.83 | I78: 289658.01
A79: 茨 城 | B79: 108821.18 | C79: 80017.542 | D79: 60129.475 | E79: 84743.612 | F79: 112401.77 | G79: 156853.71 | H79: 218503.06 | I79: 290762.49
A80: 栃 木 | B80: 122587.98 | C80: 83788.151 | D80: 62208.577 | E80: 85852.483 | F80: 110469.6 | G80: 156683.76 | H80: 227269.8 | I80: 302185.72
A81: 群 馬 | B81: 130155.31 | C81: 90437.187 | D81: 60447.797 | E81: 83964.805 | F81: 105023.62 | G81: 148863.68 | H81: 211063.17 | I81: 291104.96
A82: 埼 玉 | B82: 119291.96 | C82: 81369.146 | D82: 61984.663 | E82: 83810.413 | F82: 106360.89 | G82: 153136.51 | H82: 218028.9 | I82: 303254.12
... A118: 沖 縄 | B118: 102230.2 | C118: 62477.987 | D118: 53737.576 | E118: 80059.887 | F118: 105224.09 | G118: 148021.12 | H118: 206047.36 | I118: 295863.5

Sheet 疾病分類別1人当たり医療費
A1: 医療費の内訳
A3: （令和６年度）
A4: 医療費の内訳（疾病分類別の内訳） | U4: （％）
B5: 入院
B6: 感染症及び寄生虫症 | C6: 新生物 | D6: 血液及び造血器の疾患並びに免疫機能の障害 | E6: 内分泌、栄養及び代謝疾患 | F6: 精神及び行動の障害 | G6: 神経系の疾患 | H6: 眼及び付属器の疾患 | I6: 耳及び乳様突起の疾患 | J6: 循環器系の疾患 | K6: 呼吸器系の疾患 | L6: 消化器系の疾患 | M6: 皮膚及び皮下組織の疾患 | N6: 筋骨格系及び結合組織の疾患 | O6: 腎尿路生殖器系の疾患 | P6: 妊娠、分娩及び産じょく | Q6: 周産期に発生した病態 | R6: 先天奇形、変形及び染色体異常 | S6: 症状、徴候及び異常臨床所見・異常検査所見で他に分類されないもの | T6: 損傷、中毒及びその他の外因の影響 | U6: 特殊目的用コード
A7: 全 国 | B7: 1.6296901 | C7: 23.713091 | D7: 0.85040796 | E7: 1.9820937 | F7: 3.346496 | G7: 4.4047484 | H7: 1.7619157 | I7: 0.49744824 | J7: 18.853721 | K7: 5.2367899 | L7: 7.1524338 | M7: 0.7654774 | N7: 8.6852254 | O7: 3.7509092 | P7: 3.5599213 | Q7: 3.1078751 | R7: 2.3565649 | S7: 0.56322884 | T7: 7.5178279 | U7: 0.26413367
A9: （令和６年度）
A10: 医療費の内訳（疾病分類別の内訳） | U10: （％）
B11: 入院外
B12: 感染症及び寄生虫症 | C12: 新生物 | D12: 血液及び造血器の疾患並びに免疫機能の障害 | E12: 内分泌、栄養及び代謝疾患 | F12: 精神及び行動の障害 | G12: 神経系の疾患 | H12: 眼及び付属器の疾患 | I12: 耳及び乳様突起の疾患 | J12: 循環器系の疾患 | K12: 呼吸器系の疾患 | L12: 消化器系の疾患 | M12: 皮膚及び皮下組織の疾患 | N12: 筋骨格系及び結合組織の疾患 | O12: 腎尿路生殖器系の疾患 | P12: 妊娠、分娩及び産じょく | Q12: 周産期に発生した病態 | R12: 先天奇形、変形及び染色体異常 | S12: 症状、徴候及び異常臨床所見・異常検査所見で他に分類されないもの | T12: 損傷、中毒及びその他の外因の影響 | U12: 特殊目的用コード
A13: 全 国 | B13: 3.0719941 | C13: 10.775972 | D13: 1.9819811 | E13: 11.253392 | F13: 4.7163656 | G13: 3.8775153 | H13: 4.3637651 | I13: 1.0900601 | J13: 10.467867 | K13: 14.19715 | L13: 6.4494434 | M13: 6.3945169 | N13: 7.4474007 | O13: 6.8668004 | P13: 0.18554603 | Q13: 0.27273217 | R13: 0.89451899 | S13: 2.0520245 | T13: 2.4805625 | U13: 1.1603918
A15: 加入者１人当たり医療費（疾病分類別） | V15: （円／人）
B16: 入院
B17: 感染症及び寄生虫症 | C17: 新生物 | D17: 血液及び造血器の疾患並びに免疫機能の障害 | E17: 内分泌、栄養及び代謝疾患 | F17: 精神及び行動の障害 | G17: 神経系の疾患 | H17: 眼及び付属器の疾患 | I17: 耳及び乳様突起の疾患 | J17: 循環器系の疾患 | K17: 呼吸器系の疾患 | L17: 消化器系の疾患 | M17: 皮膚及び皮下組織の疾患 | N17: 筋骨格系及び結合組織の疾患 | O17: 腎尿路生殖器系の疾患 | P17: 妊娠、分娩及び産じょく | Q17: 周産期に発生した病態 | R17: 先天奇形、変形及び染色体異常 | S17: 症状、徴候及び異常臨床所見・異常検査所見で他に分類されないもの | T17: 損傷、中毒及びその他の外因の影響 | U17: 特殊目的用コード | V17: （再掲） 生活習慣病
A18: 全 国 | B18: 922.35309 | C18: 13420.86 | D18: 481.30402 | E18: 1121.8023 | F18: 1894.0109 | G18: 2492.9483 | H18: 997.18857 | I18: 281.53997 | J18: 10670.61 | K18: 2963.8575 | L18: 4048.0514 | M18: 433.236 | N18: 4915.563 | O18: 2122.896 | P18: 2014.8029 | Q18: 1758.959 | R18: 1333.7412 | S18: 318.76971 | T18: 4254.8529 | U18: 149.4913 | V18: 6360.7079
A19: 北 海 道 | B19: 1064.815 | C19: 19224.249 | D19: 480.90516 | E19: 1179.8269 | F19: 1682.8352 | G19: 3045.2167 | H19: 1160.3496 | I19: 355.59525 | J19: 13648.599 | K19: 3355.0839 | L19: 5044.014 | M19: 479.24594 | N19: 7312.7182 | O19: 2627.2995 | P19: 1806.9165 | Q19: 1834.2429 | R19: 1167.7942 | S19: 355.89533 | T19: 5302.0553 | U19: 169.43085 | V19: 8274.9293
A20: 青 森 | B20: 619.74031 | C20: 17825.556 | D20: 590.72954 | E20: 1105.2336 | F20: 2020.2692 | G20: 2680.7358 | H20: 1071.8248 | I20: 198.86465 | J20: 12048.475 | K20: 2161.9334 | L20: 3905.6719 | M20: 351.15402 | N20: 5334.3054 | O20: 2078.602 | P20: 1794.3676 | Q20: 1394.0079 | R20: 1013.3292 | S20: 262.46553 | T20: 4002.6376 | U20: 123.84638 | V20: 7637.8218
A21: 岩 手 | B21: 811.54164 | C21: 14051.422 | D21: 418.04318 | E21: 1268.1106 | F21: 2924.2332 | G21: 2797.6686 | H21: 885.54589 | I21: 199.09412 | J21: 10618.226 | K21: 2346.2669 | L21: 4023.4562 | M21: 338.53091 | N21: 4584.9196 | O21: 2070.7877 | P21: 2312.433 | Q21: 1538.5994 | R21: 1258.0022 | S21: 296.38913 | T21: 3958.777 | U21: 105.17706 | V21: 6484.5964
A22: 宮 城 | B22: 929.79014 | C22: 15179.624 | D22: 481.19083 | E22: 1061.8757 | F22: 1925.8795 | G22: 2569.4581 | H22: 1026.8295 | I22: 314.86767 | J22: 12790.085 | K22: 2845.9284 | L22: 4345.7878 | M22: 460.39384 | N22: 5056.0845 | O22: 2303.7251 | P22: 2023.4338 | Q22: 1837.5384 | R22: 1420.3554 | S22: 296.51325 | T22: 4226.0162 | U22: 166.05057 | V22: 7210.0852
A23: 秋 田 | B23: 1013.2399 | C23: 19697.019 | D23: 489.77808 | E23: 1441.9404 | F23: 2479.9122 | G23: 3896.2749 | H23: 1361.1822 | I23: 294.60995 | J23: 11852.787 | K23: 2958.0595 | L23: 4982.4455 | M23: 477.5211 | N23: 7314.9021 | O23: 2375.0554 | P23: 1655.208 | Q23: 1587.7345 | R23: 1337.3828 | S23: 360.36903 | T23: 5369.6364 | U23: 87.182822 | V23: 7543.0001
A24: 山 形 | B24: 854.4191 | C24: 14193.478 | D24: 651.63593 | E24: 1005.1956 | F24: 3284.3263 | G24: 2834.7057 | H24: 1197.5641 | I24: 343.21999 | J24: 11327.492 | K24: 3138.9082 | L24: 4078.6722 | M24: 440.10686 | N24: 5736.4567 | O24: 1909.1695 | P24: 2191.6196 | Q24: 1500.1938 | R24: 1389.9651 | S24: 361.96126 | T24: 4095.6179 | U24: 119.69036 | V24: 6236.5018
A25: 福 島 | B25: 874.25492 | C25: 14757.596 | D25: 533.46058 | E25: 1041.5287 | F25: 2005.6726 | G25: 2584.179 | H25: 1277.1565 | I25: 264.83253 | J25: 10315.001 | K25: 2992.1 | L25: 4207.0074 | M25: 386.70994 | N25: 5088.4281 | O25: 2130.2454 | P25: 1941.9951 | Q25: 1505.0396 | R25: 1196.1261 | S25: 365.0992 | T25: 4278.4396 | U25: 208.13346 | V25: 6155.1346
A26: 茨 城 | B26: 904.33459 | C26: 12146.895 | D26: 469.0916 | E26: 909.83183 | F26: 1603.7886 | G26: 2271.736 | H26: 990.69668 | I26: 223.53559 | J26: 10205.17 | K26: 2524.4408 | L26: 4086.5538 | M26: 328.72582 | N26: 4762.7858 | O26: 1849.3826 | P26: 1910.1213 | Q26: 1501.8314 | R26: 1262.2358 | S26: 306.09743 | T26: 3698.7735 | U26: 153.86842 | V26: 6172.0341
A27: 栃 木 | B27: 1054.1725 | C27: 12795.053 | D27: 393.02267 | E27: 1191.2665 | F27: 1431.6437 | G27: 2389.0307 | H27: 1193.4453 | I27: 257.53115 | J27: 11609.791 | K27: 2929.473 | L27: 4181.8532 | M27: 421.95759 | N27: 5197.7797 | O27: 2253.6398 | P27: 2006.7944 | Q27: 1616.9469 | R27: 1356.9933 | S27: 358.50048 | T27: 4068.269 | U27: 172.16956 | V27: 7089.6827
A28: 群 馬 | B28: 1168.8257 | C28: 12668.858 | D28: 477.20551 | E28: 1126.0436 | F28: 2530.3971 | G28: 1932.0853 | H28: 651.64694 | I28: 276.81624 | J28: 10757.777 | K28: 2898.3423 | L28: 4246.7369 | M28: 391.86445 | N28: 4649.9584 | O28: 2118.371 | P28: 1696.53 | Q28: 1619.6781 | R28: 1154.9717 | S28: 303.34258 | T28: 3943.7329 | U28: 186.01772 | V28: 6190.2761
A29: 埼 玉 | B29: 939.12848 | C29: 12248.587 | D29: 519.87802 | E29: 1156.082 | F29: 1781.6762 | G29: 2157.7534 | H29: 773.62678 | I29: 212.25833 | J29: 10854.024 | K29: 2672.0545 | L29: 3802.9394 | M29: 424.08899 | N29: 4367.1712 | O29: 2055.5726 | P29: 1708.3369 | Q29: 1540.5597 | R29: 1232.7133 | S29: 379.5798 | T29: 3799.0658 | U29: 144.45966 | V29: 6503.9166
... A65: 沖 縄 | B65: 1093.9437 | C65: 10429.63 | D65: 464.61204 | E65: 1378.6394 | F65: 2190.623 | G65: 2500.8937 | H65: 931.8966 | I65: 322.26421 | J65: 12723.497 | K65: 3770.8794 | L65: 4702.958 | M65: 555.59114 | N65: 4469.3687 | O65: 2382.2434 | P65: 3235.3637 | Q65: 3008.8937 | R65: 1285.1047 | S65: 262.12202 | T65: 4341.0811 | U65: 178.23482 | V65: 7752.6297
A67: 加入者１人当たり医療費（疾病分類別） | V67: （円／人）
B68: 入院外
B69: 感染症及び寄生虫症 | C69: 新生物 | D69: 血液及び造血器の疾患並びに免疫機能の障害 | E69: 内分泌、栄養及び代謝疾患 | F69: 精神及び行動の障害 | G69: 神経系の疾患 | H69: 眼及び付属器の疾患 | I69: 耳及び乳様突起の疾患 | J69: 循環器系の疾患 | K69: 呼吸器系の疾患 | L69: 消化器系の疾患 | M69: 皮膚及び皮下組織の疾患 | N69: 筋骨格系及び結合組織の疾患 | O69: 腎尿路生殖器系の疾患 | P69: 妊娠、分娩及び産じょく | Q69: 周産期に発生した病態 | R69: 先天奇形、変形及び染色体異常 | S69: 症状、徴候及び異常臨床所見・異常検査所見で他に分類されないもの | T69: 損傷、中毒及びその他の外因の影響 | U69: 特殊目的用コード | V69: （再掲） 生活習慣病
A70: 全 国 | B70: 3914.8429 | C70: 13732.526 | D70: 2525.7681 | E70: 14340.933 | F70: 6010.3731 | G70: 4941.3713 | H70: 5561.0312 | I70: 1389.1348 | J70: 13339.887 | K70: 18092.356 | L70: 8218.9474 | M70: 8148.9509 | N70: 9490.7096 | O70: 8750.8127 | P70: 236.45344 | Q70: 347.56043 | R70: 1139.944 | S70: 2615.029 | T70: 3161.143 | U70: 1478.7632 | V70: 21548.458
A71: 北 海 道 | B71: 3893.5463 | C71: 16593.193 | D71: 3074.6774 | E71: 15879.312 | F71: 5917.3035 | G71: 5344.4155 | H71: 5059.3302 | I71: 1467.4483 | J71: 15392.656 | K71: 16861.238 | L71: 9631.5596 | M71: 8838.5228 | N71: 10969.812 | O71: 9208.3747 | P71: 234.88281 | Q71: 282.94652 | R71: 934.44417 | S71: 2652.7085 | T71: 3024.9491 | U71: 1169.153 | V71: 25234.753
A72: 青 森 | B72: 3365.6475 | C72: 18653.002 | D72: 2908.3323 | E72: 16238.956 | F72: 5471.2918 | G72: 4818.9143 | H72: 4729.9794 | I72: 1111.8282 | J72: 17979.925 | K72: 16975.43 | L72: 7930.3025 | M72: 6644.7827 | N72: 11124.783 | O72: 8631.3514 | P72: 245.70264 | Q72: 408.68196 | R72: 892.42575 | S72: 2405.6434 | T72: 2707.6726 | U72: 1129.855 | V72: 28317.71
A73: 岩 手 | B73: 3595.8638 | C73: 15278.785 | D73: 2974.3396 | E73: 16803.016 | F73: 6308.9302 | G73: 6120.8844 | H73: 5405.1553 | I73: 1164.4767 | J73: 17081.952 | K73: 14547.189 | L73: 8267.6321 | M73: 7518.7983 | N73: 9592.2602 | O73: 8548.0304 | P73: 205.36921 | Q73: 287.69126 | R73: 976.34846 | S73: 2379.6275 | T73: 2464.8153 | U73: 1832.4194 | V73: 27694.257
A74: 宮 城 | B74: 3428.956 | C74: 14237.209 | D74: 2665.2489 | E74: 16215.027 | F74: 5466.4231 | G74: 5541.0863 | H74: 6010.2073 | I74: 1507.17 | J74: 17024.591 | K74: 16885.025 | L74: 8752.9934 | M74: 8055.4026 | N74: 10169.678 | O74: 9416.5655 | P74: 153.79829 | Q74: 455.77246 | R74: 953.567 | S74: 2456.1522 | T74: 2848.5844 | U74: 1515.8118 | V74: 26757.104
A75: 秋 田 | B75: 3564.899 | C75: 17700.88 | D75: 3280.7013 | E75: 17767.088 | F75: 5719.1575 | G75: 5424.8794 | H75: 5956.5511 | I75: 1224.3381 | J75: 19006.415 | K75: 15784.423 | L75: 9940.2635 | M75: 7970.4202 | N75: 10878.328 | O75: 8159.7173 | P75: 205.08426 | Q75: 389.98974 | R75: 1037.988 | S75: 2674.6038 | T75: 2493.4259 | U75: 1348.7201 | V75: 29566.188
A76: 山 形 | B76: 3362.9796 | C76: 16224.57 | D76: 2986.6445 | E76: 16650.179 | F76: 6690.5808 | G76: 4547.9653 | H76: 6244.0197 | I76: 1299.1692 | J76: 18038.036 | K76: 17560.836 | L76: 8561.0374 | M76: 7841.3892 | N76: 9504.8715 | O76: 8106.1455 | P76: 202.79799 | Q76: 303.07034 | R76: 1115.6929 | S76: 2045.1657 | T76: 2923.0393 | U76: 1761.127 | V76: 27836.135
A77: 福 島 | B77: 2928.565 | C77: 14437.414 | D77: 2727.4769 | E77: 15819.169 | F77: 6293.1798 | G77: 5008.4621 | H77: 5110.7517 | I77: 1278.6625 | J77: 17010.756 | K77: 16637.895 | L77: 7465.7264 | M77: 6796.5567 | N77: 9239.7245 | O77: 8400.283 | P77: 186.93182 | Q77: 291.05262 | R77: 945.6502 | S77: 2453.1565 | T77: 2662.894 | U77: 1326.9818 | V77: 26433.931
A78: 茨 城 | B78: 3382.8979 | C78: 13196.072 | D78: 2141.3703 | E78: 14761.127 | F78: 5537.6187 | G78: 4975.07 | H78: 5494.4899 | I78: 1218.8595 | J78: 14656.626 | K78: 16324.885 | L78: 8232.1626 | M78: 7614.2354 | N78: 9987.8807 | O78: 7842.6256 | P78: 244.41051 | Q78: 297.57604 | R78: 920.93578 | S78: 3039.658 | T78: 2798.3383 | U78: 1667.8537 | V78: 23950.416
A79: 栃 木 | B79: 3621.364 | C79: 13540.63 | D79: 2161.3482 | E79: 15845.635 | F79: 5604.3239 | G79: 5161.6122 | H79: 5194.9255 | I79: 1409.8535 | J79: 14936.701 | K79: 16752.983 | L79: 8449.1255 | M79: 7510.0046 | N79: 9512.0597 | O79: 9845.7293 | P79: 202.81212 | Q79: 455.6416 | R79: 985.84651 | S79: 2933.4096 | T79: 2936.9829 | U79: 1687.2333 | V79: 25020.948
A80: 群 馬 | B80: 3412.3605 | C80: 12901.723 | D80: 2865.8618 | E80: 14847.629 | F80: 5470.5632 | G80: 4699.8758 | H80: 5466.2879 | I80: 1240.6101 | J80: 13096.682 | K80: 17719.639 | L80: 7301.4203 | M80: 7418.2858 | N80: 8975.2909 | O80: 8855.3058 | P80: 226.2118 | Q80: 364.44268 | R80: 1161.056 | S80: 2618.4736 | T80: 3374.7757 | U80: 1521.2881 | V80: 21946.549
A81: 埼 玉 | B81: 3452.9643 | C81: 13365.978 | D81: 2311.8976 | E81: 13882.547 | F81: 5579.2821 | G81: 5057.6113 | H81: 5850.2884 | I81: 1189.4524 | J81: 13813.935 | K81: 17765.174 | L81: 7916.3582 | M81: 7639.3703 | N81: 9068.0996 | O81: 8520.1855 | P81: 193.58673 | Q81: 300.02429 | R81: 1006.6665 | S81: 2758.1444 | T81: 3136.4439 | U81: 1389.1621 | V81: 21798.584
... A117: 沖 縄 | B117: 3184.3843 | C117: 10121.667 | D117: 2665.9728 | E117: 11339.269 | F117: 5594.8493 | G117: 4720.708 | H117: 5345.2907 | I117: 1122.6559 | J117: 13231.386 | K117: 16524.273 | L117: 6071.0611 | M117: 6563.818 | N117: 8584.5575 | O117: 7373.4541 | P117: 375.38497 | Q117: 406.22039 | R117: 1183.3153 | S117: 3009.0552 | T117: 2745.9281 | U117: 1247.8703 | V117: 19204.001
A119: 注 1 | B119: 傷病別の医療費は、令和６年４月～令和７年３月分のレセプトの集計値である。入院外については入院外レセプトと調剤レセプトを接続させている。
A120: 2 | B120: 都道府県別の医療費は、加入者の事業所所在地の都道府県毎に集計したものである。
A121: 3 | B121: 生活習慣病は、内分泌, 栄養及び代謝疾患（糖尿病、脂質異常症）、循環器系疾患（高血圧性疾患、虚血性心疾患、くも膜下出血、脳内出血、脳梗塞、脳動脈硬化（症）、その他の脳血管疾患）に該当するものを分類している。

Sheet ３要素分解（高血圧症・脂質異常症・糖尿病）
A1: 加入者１人当たり入院外医療費（高血圧症・脂質異常症・糖尿病）の３要素分解
B2: 高血圧症 | G2: 脂質異常症 | L2: 糖尿病
A3: 入院外 | B3: 1人当たり医療費 | C3: 受診率 | D3: 1件当たり日数 | E3: 1日当たり医療費 | G3: 1人当たり医療費 | H3: 受診率 | I3: 1件当たり日数 | J3: 1日当たり医療費 | L3: 1人当たり医療費 | M3: 受診率 | N3: 1件当たり日数 | O3: 1日当たり医療費
A4: 調剤含む | B4: （円／人） | C4: （件／千人） | D4: （日／件） | E4: （円／日） | G4: （円／人） | H4: （件／千人） | I4: （日／件） | J4: （円／日） | L4: （円／人） | M4: （件／千人） | N4: （日／件） | O4: （円／日）
A5: 北海道 | B5: 9690.5433 | C5: 591.05748 | D5: 1.120914 | E5: 14626.692 | G5: 3225.5352 | H5: 201.34411 | I5: 1.1382616 | J5: 14074.104 | L5: 9273.9669 | M5: 260.3378 | N5: 1.1559385 | O5: 30817.23
A6: 青森 | B6: 11809.839 | C6: 818.40909 | D6: 1.1326 | E6: 12740.808 | G6: 3628.5443 | H6: 269.75367 | I6: 1.1363628 | J6: 11837.174 | L6: 9999.6463 | M6: 323.28283 | N6: 1.1376558 | O6: 27188.868
A7: 岩手 | B7: 11534.192 | C7: 775.76854 | D7: 1.1195533 | E7: 13280.372 | G7: 3988.4015 | H7: 260.0579 | I7: 1.1420819 | J7: 13428.625 | L7: 9777.3619 | M7: 298.65291 | N7: 1.1569792 | O7: 28296.284
A8: 宮城 | B8: 11505.072 | C8: 770.31568 | D8: 1.1256337 | E8: 13268.551 | G8: 3747.7869 | H8: 250.39615 | I8: 1.1454869 | J8: 13066.435 | L8: 9034.1328 | M8: 281.05133 | N8: 1.1425126 | O8: 28134.54
A9: 秋田 | B9: 12872.592 | C9: 911.08045 | D9: 1.1197952 | E9: 12617.423 | G9: 4639.3775 | H9: 320.58973 | I9: 1.1433315 | J9: 12657.209 | L9: 9520.8866 | M9: 282.63625 | N9: 1.2118437 | O9: 27797.32
A10: 山形 | B10: 12491.538 | C10: 899.8506 | D10: 1.1344047 | E10: 12237.071 | G10: 4908.1682 | H10: 359.55041 | I10: 1.1581523 | J10: 11786.747 | L10: 7977.8681 | M10: 266.66444 | N10: 1.1848812 | O10: 25249.161
A11: 福島 | B11: 11334.39 | C11: 793.58218 | D11: 1.1306115 | E11: 12632.603 | G11: 3417.533 | H11: 248.55357 | I11: 1.1532035 | J11: 11923.033 | L11: 8924.3403 | M11: 285.60685 | N11: 1.1651751 | O11: 26817.378
A12: 茨城 | B12: 9771.9205 | C12: 632.99902 | D12: 1.1530173 | E12: 13388.781 | G12: 3240.5395 | H12: 202.48821 | I12: 1.1852643 | J12: 13502.132 | L12: 8574.2685 | M12: 264.68944 | N12: 1.1740515 | O12: 27591.375
A13: 栃木 | B13: 10258.076 | C13: 706.74291 | D13: 1.1587071 | E13: 12526.53 | G13: 3758.0257 | H13: 261.95251 | I13: 1.1870757 | J13: 12085.336 | L13: 8766.36 | M13: 274.11532 | N13: 1.1997294 | O13: 26656.474
A14: 群馬 | B14: 8659.2209 | C14: 621.13193 | D14: 1.1498331 | E14: 12124.397 | G14: 2849.8752 | H14: 205.61212 | I14: 1.169522 | J14: 11851.374 | L14: 8167.5231 | M14: 255.5425 | N14: 1.2121352 | O14: 26367.938
A15: 埼玉 | B15: 8833.7152 | C15: 578.36076 | D15: 1.1627554 | E15: 13135.791 | G15: 2849.7191 | H15: 189.98007 | I15: 1.1918171 | J15: 12585.903 | L15: 7736.1608 | M15: 233.74283 | N15: 1.2011873 | O15: 27553.478
A16: 千葉 | B16: 8871.763 | C16: 574.25141 | D16: 1.1504976 | E16: 13428.334 | G16: 3025.1423 | H16: 195.19006 | I16: 1.1750769 | J16: 13189.302 | L16: 8473.9381 | M16: 239.50152 | N16: 1.2037138 | O16: 29393.667
... A52: 全国平均 | B52: 8565.8403 | C52: 583.6706 | D52: 1.1572099 | E52: 12682.066 | G52: 3178.3567 | H52: 214.51292 | I52: 1.1862237 | J52: 12490.58 | L52: 7515.3879 | M52: 232.21773 | N52: 1.1940466 | O52: 27104.085
A53: （注）・傷病別の医療費は、令和６年４月～令和７年３月のレセプトの集計値であり、入院外レセプトに突合できる調剤レセプト分が含まれている。
A54: （注）・都道府県別の医療費は、加入者の事業所所在地の都道府県毎に集計したものである。
